BEGIN:VCALENDAR
VERSION:2.0
PRODID:-//Innisfil Legion 547 - ECPv6.15.20//NONSGML v1.0//EN
CALSCALE:GREGORIAN
METHOD:PUBLISH
X-WR-CALNAME:Innisfil Legion 547
X-ORIGINAL-URL:https://legion547.ca
X-WR-CALDESC:Events for Innisfil Legion 547
REFRESH-INTERVAL;VALUE=DURATION:PT1H
X-Robots-Tag:noindex
X-PUBLISHED-TTL:PT1H
BEGIN:VTIMEZONE
TZID:America/Toronto
BEGIN:DAYLIGHT
TZOFFSETFROM:-0500
TZOFFSETTO:-0400
TZNAME:EDT
DTSTART:20250309T070000
END:DAYLIGHT
BEGIN:STANDARD
TZOFFSETFROM:-0400
TZOFFSETTO:-0500
TZNAME:EST
DTSTART:20251102T060000
END:STANDARD
BEGIN:DAYLIGHT
TZOFFSETFROM:-0500
TZOFFSETTO:-0400
TZNAME:EDT
DTSTART:20260308T070000
END:DAYLIGHT
BEGIN:STANDARD
TZOFFSETFROM:-0400
TZOFFSETTO:-0500
TZNAME:EST
DTSTART:20261101T060000
END:STANDARD
BEGIN:DAYLIGHT
TZOFFSETFROM:-0500
TZOFFSETTO:-0400
TZNAME:EDT
DTSTART:20270314T070000
END:DAYLIGHT
BEGIN:STANDARD
TZOFFSETFROM:-0400
TZOFFSETTO:-0500
TZNAME:EST
DTSTART:20271107T060000
END:STANDARD
END:VTIMEZONE
BEGIN:VEVENT
DTSTART;TZID=America/Toronto:20260410T130000
DTEND;TZID=America/Toronto:20260410T160000
DTSTAMP:20260422T151258
CREATED:20260409T171203Z
LAST-MODIFIED:20260409T171203Z
UID:2800-1775826000-1775836800@legion547.ca
SUMMARY:Friday Euchre
DESCRIPTION:
URL:https://legion547.ca/event/friday-euchre/
LOCATION:ON
ATTACH;FMTTYPE=image/png:https://legion547.ca/wp-content/uploads/2026/03/Euchre-FB.png
END:VEVENT
BEGIN:VEVENT
DTSTART;TZID=America/Toronto:20260424T130000
DTEND;TZID=America/Toronto:20260424T160000
DTSTAMP:20260422T151258
CREATED:20260421T194912Z
LAST-MODIFIED:20260421T194912Z
UID:2805-1777035600-1777046400@legion547.ca
SUMMARY:Friday Euchre
DESCRIPTION:
URL:https://legion547.ca/event/friday-euchre-4/
LOCATION:Innisfil Legion Branch 547\, 1017 Robinson St.\, Belle Ewart\, ON\, L0L1W0\, Canada
ORGANIZER;CN="Innisfil Legion":MAILTO:secretary@legion547.ca
END:VEVENT
BEGIN:VEVENT
DTSTART;TZID=America/Toronto:20260425T173000
DTEND;TZID=America/Toronto:20260425T210000
DTSTAMP:20260422T151258
CREATED:20260409T162812Z
LAST-MODIFIED:20260409T162812Z
UID:2792-1777138200-1777150800@legion547.ca
SUMMARY:Pasta-La-Vista
DESCRIPTION:
URL:https://legion547.ca/event/pasta-la-vista/
LOCATION:Innisfil Legion Branch 547\, 1017 Robinson St.\, Belle Ewart\, ON\, L0L1W0\, Canada
ATTACH;FMTTYPE=image/jpeg:https://legion547.ca/wp-content/uploads/2026/03/att.jlmw178tcOe_BQnG6n85BpeBKIMsxTmiT5EZJehO46k.jpg
ORGANIZER;CN="Innisfil Legion":MAILTO:secretary@legion547.ca
END:VEVENT
BEGIN:VEVENT
DTSTART;TZID=America/Toronto:20260501T130000
DTEND;TZID=America/Toronto:20260501T160000
DTSTAMP:20260422T151258
CREATED:20260421T195135Z
LAST-MODIFIED:20260421T195135Z
UID:2826-1777640400-1777651200@legion547.ca
SUMMARY:Friday Euchre
DESCRIPTION:
URL:https://legion547.ca/event/friday-euchre-5/
LOCATION:Innisfil Legion Branch 547\, 1017 Robinson St.\, Belle Ewart\, ON\, L0L1W0\, Canada
ATTACH;FMTTYPE=image/png:https://legion547.ca/wp-content/uploads/2026/03/Euchre-FB.png
ORGANIZER;CN="Innisfil Legion":MAILTO:secretary@legion547.ca
END:VEVENT
BEGIN:VEVENT
DTSTART;TZID=America/Toronto:20260505T100000
DTEND;TZID=America/Toronto:20260505T120000
DTSTAMP:20260422T151258
CREATED:20260419T155248Z
LAST-MODIFIED:20260419T155248Z
UID:2830-1777975200-1777982400@legion547.ca
SUMMARY:Veterans Coffee Chat
DESCRIPTION:
URL:https://legion547.ca/event/veterans-coffee-chat/
LOCATION:Innisfil Legion Branch 547\, 1017 Robinson St.\, Belle Ewart\, ON\, L0L1W0\, Canada
ATTACH;FMTTYPE=image/png:https://legion547.ca/wp-content/uploads/2026/03/Coffee-Chat-Facebook-Post.png
ORGANIZER;CN="Innisfil Legion":MAILTO:secretary@legion547.ca
END:VEVENT
BEGIN:VEVENT
DTSTART;TZID=America/Toronto:20260507T180000
DTEND;TZID=America/Toronto:20260507T210000
DTSTAMP:20260422T151258
CREATED:20260419T161545Z
LAST-MODIFIED:20260419T161545Z
UID:2835-1778176800-1778187600@legion547.ca
SUMMARY:Summer Cornhole League
DESCRIPTION:
URL:https://legion547.ca/event/summer-cornhole-league/
LOCATION:ON
ATTACH;FMTTYPE=image/png:https://legion547.ca/wp-content/uploads/2026/04/Summer-Cornhole-League-Small.png
END:VEVENT
BEGIN:VEVENT
DTSTART;TZID=America/Toronto:20260509T130000
DTEND;TZID=America/Toronto:20260509T150000
DTSTAMP:20260422T151258
CREATED:20260409T171014Z
LAST-MODIFIED:20260409T171014Z
UID:2798-1778331600-1778338800@legion547.ca
SUMMARY:Poppies & Pastry
DESCRIPTION:Come and enjoy a afternoon of celebrating Mother’s Day. Whether you are a mother\, are celebrating a mother\, or simply wish to honor all the wonderful women in your lives\, everyone is welcome to come and celebrate together. This event is open to all\, so please feel free to bring friends and family to share in the joy. You can purchase your tickets at the Legion Bar.
URL:https://legion547.ca/event/poppies-pastry/
LOCATION:Innisfil Legion Branch 547\, 1017 Robinson St.\, Belle Ewart\, ON\, L0L1W0\, Canada
ATTACH;FMTTYPE=image/png:https://legion547.ca/wp-content/uploads/2026/04/High-Tea-1.png
ORGANIZER;CN="Innisfil Legion":MAILTO:secretary@legion547.ca
END:VEVENT
BEGIN:VEVENT
DTSTART;VALUE=DATE:20260613
DTEND;VALUE=DATE:20260614
DTSTAMP:20260422T151258
CREATED:20260409T172134Z
LAST-MODIFIED:20260409T172134Z
UID:2802-1781308800-1781395199@legion547.ca
SUMMARY:Golf Tournament
DESCRIPTION:Save this date June 13\nSign up sheets at our legion members and non members are welcome\nAlways a fun day\nAfter golf come on back for music at the legion
URL:https://legion547.ca/event/golf-tournament/
LOCATION:Big Cedar Golf and Country Club\, 1590 Houston Ave\, Innisfil\, ON\, L9S 4M7\, Canada
ATTACH;FMTTYPE=image/png:https://legion547.ca/wp-content/uploads/2026/03/TOURNAMENT.png
END:VEVENT
BEGIN:VEVENT
DTSTART;VALUE=DATE:20260823
DTEND;VALUE=DATE:20260824
DTSTAMP:20260422T151258
CREATED:20260419T160040Z
LAST-MODIFIED:20260419T160040Z
UID:2833-1787443200-1787529599@legion547.ca
SUMMARY:Family Fun Day 2026
DESCRIPTION:
URL:https://legion547.ca/event/family-fun-day-2026/
LOCATION:Innisfil Legion Branch 547\, 1017 Robinson St.\, Belle Ewart\, ON\, L0L1W0\, Canada
ATTACH;FMTTYPE=image/jpeg:https://legion547.ca/wp-content/uploads/2026/04/672668737_122220439430359367_839078605422605681_n.jpg
END:VEVENT
END:VCALENDAR